BEGIN:VCALENDAR
VERSION:2.0
PRODID:-//Woodland Hills Church - ECPv6.15.18//NONSGML v1.0//EN
CALSCALE:GREGORIAN
METHOD:PUBLISH
X-WR-CALNAME:Woodland Hills Church
X-ORIGINAL-URL:https://whchurch.org
X-WR-CALDESC:Events for Woodland Hills Church
REFRESH-INTERVAL;VALUE=DURATION:PT1H
X-Robots-Tag:noindex
X-PUBLISHED-TTL:PT1H
BEGIN:VTIMEZONE
TZID:America/Chicago
BEGIN:DAYLIGHT
TZOFFSETFROM:-0600
TZOFFSETTO:-0500
TZNAME:CDT
DTSTART:20250309T080000
END:DAYLIGHT
BEGIN:STANDARD
TZOFFSETFROM:-0500
TZOFFSETTO:-0600
TZNAME:CST
DTSTART:20251102T070000
END:STANDARD
BEGIN:DAYLIGHT
TZOFFSETFROM:-0600
TZOFFSETTO:-0500
TZNAME:CDT
DTSTART:20260308T080000
END:DAYLIGHT
BEGIN:STANDARD
TZOFFSETFROM:-0500
TZOFFSETTO:-0600
TZNAME:CST
DTSTART:20261101T070000
END:STANDARD
BEGIN:DAYLIGHT
TZOFFSETFROM:-0600
TZOFFSETTO:-0500
TZNAME:CDT
DTSTART:20270314T080000
END:DAYLIGHT
BEGIN:STANDARD
TZOFFSETFROM:-0500
TZOFFSETTO:-0600
TZNAME:CST
DTSTART:20271107T070000
END:STANDARD
END:VTIMEZONE
BEGIN:VEVENT
DTSTART;TZID=America/Chicago:20260403T190000
DTEND;TZID=America/Chicago:20260403T200000
DTSTAMP:20260423T035928
CREATED:20260319T161001Z
LAST-MODIFIED:20260319T220336Z
UID:10011455-1775242800-1775246400@whchurch.org
SUMMARY:Good Friday Service: Online
DESCRIPTION:Join us for a special Good Friday service we’ll be having at 7pm. \nYou can watch live online at whchurch.org/live.
URL:https://whchurch.org/event/good-friday-service-online/
CATEGORIES:App,Easter Week,Special Events,Weekends
ATTACH;FMTTYPE=image/jpeg:https://whchurch.org/wp-content/uploads/2026/03/GF-26_Watch-Live-800.jpg
END:VEVENT
BEGIN:VEVENT
DTSTART;TZID=America/Chicago:20260403T190000
DTEND;TZID=America/Chicago:20260403T200000
DTSTAMP:20260423T035928
CREATED:20260319T161235Z
LAST-MODIFIED:20260319T220240Z
UID:10011456-1775242800-1775246400@whchurch.org
SUMMARY:Good Friday Service: In-Person
DESCRIPTION:Join us for a special Good Friday service we’ll be having at 7pm. \n 
URL:https://whchurch.org/event/good-friday-service-in-person/
CATEGORIES:App,Easter Week,Special Events,Weekends
ATTACH;FMTTYPE=image/jpeg:https://whchurch.org/wp-content/uploads/2026/03/GF-26_Join-Us.jpg
END:VEVENT
END:VCALENDAR