BEGIN:VCALENDAR
VERSION:2.0
PRODID:-//Woodland Hills Church - ECPv6.15.18//NONSGML v1.0//EN
CALSCALE:GREGORIAN
METHOD:PUBLISH
X-WR-CALNAME:Woodland Hills Church
X-ORIGINAL-URL:https://whchurch.org
X-WR-CALDESC:Events for Woodland Hills Church
REFRESH-INTERVAL;VALUE=DURATION:PT1H
X-Robots-Tag:noindex
X-PUBLISHED-TTL:PT1H
BEGIN:VTIMEZONE
TZID:America/Chicago
BEGIN:DAYLIGHT
TZOFFSETFROM:-0600
TZOFFSETTO:-0500
TZNAME:CDT
DTSTART:20250309T080000
END:DAYLIGHT
BEGIN:STANDARD
TZOFFSETFROM:-0500
TZOFFSETTO:-0600
TZNAME:CST
DTSTART:20251102T070000
END:STANDARD
BEGIN:DAYLIGHT
TZOFFSETFROM:-0600
TZOFFSETTO:-0500
TZNAME:CDT
DTSTART:20260308T080000
END:DAYLIGHT
BEGIN:STANDARD
TZOFFSETFROM:-0500
TZOFFSETTO:-0600
TZNAME:CST
DTSTART:20261101T070000
END:STANDARD
BEGIN:DAYLIGHT
TZOFFSETFROM:-0600
TZOFFSETTO:-0500
TZNAME:CDT
DTSTART:20270314T080000
END:DAYLIGHT
BEGIN:STANDARD
TZOFFSETFROM:-0500
TZOFFSETTO:-0600
TZNAME:CST
DTSTART:20271107T070000
END:STANDARD
END:VTIMEZONE
BEGIN:VEVENT
DTSTART;TZID=America/Chicago:20260427T183000
DTEND;TZID=America/Chicago:20260427T200000
DTSTAMP:20260419T113333
CREATED:20240911T200101Z
LAST-MODIFIED:20250820T180619Z
UID:10008236-1777314600-1777320000@whchurch.org
SUMMARY:Healing Well Support Groups
DESCRIPTION:Are you feeling disconnected\, alone\, isolated\, or otherwise just looking for general healing and growth? Healing Well is a community of weekly support groups where you can experience God’s grace and truth. \nMost groups meet in-person at Woodland Hills\, Mondays at 6:30pm. Learn more at whchurch.org/support-groups.
URL:https://whchurch.org/event/healing-well-support-groups/2026-04-27/
CATEGORIES:App,Care
ATTACH;FMTTYPE=image/png:https://whchurch.org/wp-content/uploads/2022/08/Healing-Well_800.png
END:VEVENT
BEGIN:VEVENT
DTSTART;TZID=America/Chicago:20260427T183000
DTEND;TZID=America/Chicago:20260427T200000
DTSTAMP:20260419T113333
CREATED:20250820T174031Z
LAST-MODIFIED:20251124T163824Z
UID:10009865-1777314600-1777320000@whchurch.org
SUMMARY:Life on Purpose
DESCRIPTION:Are you wanting to experience a closer connection to God and his presence in your life? Life on Purpose is a group where we learn to live intentionally and grow in our experience of God through the study\, discussion and practice of spiritual disciplines (such as simplicity\, prayer\, discernment\, community\, etc.) \nIf you would like to join us\, we meet both in-person (in North A) and via Zoom on Monday evenings at 6:30pm CT! \nReach out to Judy at judyhoaglund@hotmail.com for more information\, and/or for the Zoom link.
URL:https://whchurch.org/event/life-on-purpose/2026-04-27/
CATEGORIES:App
ATTACH;FMTTYPE=image/jpeg:https://whchurch.org/wp-content/uploads/2018/04/life-on-purpose.jpg
END:VEVENT
END:VCALENDAR