BEGIN:VCALENDAR
VERSION:2.0
PRODID:-//Woodland Hills Church - ECPv6.15.18//NONSGML v1.0//EN
CALSCALE:GREGORIAN
METHOD:PUBLISH
X-WR-CALNAME:Woodland Hills Church
X-ORIGINAL-URL:https://whchurch.org
X-WR-CALDESC:Events for Woodland Hills Church
REFRESH-INTERVAL;VALUE=DURATION:PT1H
X-Robots-Tag:noindex
X-PUBLISHED-TTL:PT1H
BEGIN:VTIMEZONE
TZID:America/Chicago
BEGIN:DAYLIGHT
TZOFFSETFROM:-0600
TZOFFSETTO:-0500
TZNAME:CDT
DTSTART:20250309T080000
END:DAYLIGHT
BEGIN:STANDARD
TZOFFSETFROM:-0500
TZOFFSETTO:-0600
TZNAME:CST
DTSTART:20251102T070000
END:STANDARD
BEGIN:DAYLIGHT
TZOFFSETFROM:-0600
TZOFFSETTO:-0500
TZNAME:CDT
DTSTART:20260308T080000
END:DAYLIGHT
BEGIN:STANDARD
TZOFFSETFROM:-0500
TZOFFSETTO:-0600
TZNAME:CST
DTSTART:20261101T070000
END:STANDARD
BEGIN:DAYLIGHT
TZOFFSETFROM:-0600
TZOFFSETTO:-0500
TZNAME:CDT
DTSTART:20270314T080000
END:DAYLIGHT
BEGIN:STANDARD
TZOFFSETFROM:-0500
TZOFFSETTO:-0600
TZNAME:CST
DTSTART:20271107T070000
END:STANDARD
END:VTIMEZONE
BEGIN:VEVENT
DTSTART;TZID=America/Chicago:20260629T183000
DTEND;TZID=America/Chicago:20260629T200000
DTSTAMP:20260425T100330
CREATED:20240911T200101Z
LAST-MODIFIED:20250820T180619Z
UID:10008245-1782757800-1782763200@whchurch.org
SUMMARY:Healing Well Support Groups
DESCRIPTION:Are you feeling disconnected\, alone\, isolated\, or otherwise just looking for general healing and growth? Healing Well is a community of weekly support groups where you can experience God’s grace and truth. \nMost groups meet in-person at Woodland Hills\, Mondays at 6:30pm. Learn more at whchurch.org/support-groups.
URL:https://whchurch.org/event/healing-well-support-groups/2026-06-29/
CATEGORIES:App,Care
ATTACH;FMTTYPE=image/png:https://whchurch.org/wp-content/uploads/2022/08/Healing-Well_800.png
END:VEVENT
END:VCALENDAR